BEGIN:VCALENDAR
VERSION:2.0
PRODID:icalendar-ruby
CALSCALE:GREGORIAN
METHOD:PUBLISH
BEGIN:VEVENT
DTSTAMP:20260424T141735Z
UID:103-1160070@mzwo.org
DTSTART:20260516T140000Z
DTEND:20260516T160000Z
CLASS:PUBLIC
CREATED:20260423T145500
DESCRIPTION:
LAST-MODIFIED:20260423T145500
LOCATION:Mt. Zion World Outreach
SUMMARY:Women's Ministry Prayer Brunch
URL;VALUE=URI:https://www.mzwo.org/events/womens-ministry-prayer-brunch/202
 6-05-16
END:VEVENT
END:VCALENDAR
