BEGIN:VCALENDAR
VERSION:2.0
PRODID:icalendar-ruby
CALSCALE:GREGORIAN
METHOD:PUBLISH
BEGIN:VEVENT
DTSTAMP:20260424T141756Z
UID:104-1160069@mzwo.org
DTSTART:20260517T140000Z
DTEND:20260518T020000Z
CLASS:PUBLIC
CREATED:20260423T142342
DESCRIPTION:
LAST-MODIFIED:20260423T142342
LOCATION:Mt. Zion World Outreach
SUMMARY:Women's Day Program
URL;VALUE=URI:https://www.mzwo.org/events/womens-day-program/2026-05-17
END:VEVENT
END:VCALENDAR
