BEGIN:VCALENDAR
VERSION:2.0
PRODID:icalendar-ruby
CALSCALE:GREGORIAN
METHOD:PUBLISH
BEGIN:VEVENT
DTSTAMP:20260419T130355Z
UID:32-1136335@mzwo.org
DTSTART:20261014T223000Z
DTEND:20261014T230000Z
CLASS:PUBLIC
CREATED:20260419T073646
DESCRIPTION:
LAST-MODIFIED:20260419T073646
LOCATION:Mt. Zion Conference Room
SUMMARY:Wednesday Bible Study EVENING
URL;VALUE=URI:https://www.mzwo.org/events/wednesday-bible-study-evening/202
 6-10-14
END:VEVENT
END:VCALENDAR
